BEGIN:VCALENDAR
VERSION:2.0
PRODID:-//Doncaster Camera Club - ECPv6.15.14//NONSGML v1.0//EN
CALSCALE:GREGORIAN
METHOD:PUBLISH
X-ORIGINAL-URL:https://doncastercameraclub.co.uk
X-WR-CALDESC:Events for Doncaster Camera Club
REFRESH-INTERVAL;VALUE=DURATION:PT1H
X-Robots-Tag:noindex
X-PUBLISHED-TTL:PT1H
BEGIN:VTIMEZONE
TZID:Europe/London
BEGIN:DAYLIGHT
TZOFFSETFROM:+0000
TZOFFSETTO:+0100
TZNAME:BST
DTSTART:20240331T010000
END:DAYLIGHT
BEGIN:STANDARD
TZOFFSETFROM:+0100
TZOFFSETTO:+0000
TZNAME:GMT
DTSTART:20241027T010000
END:STANDARD
BEGIN:DAYLIGHT
TZOFFSETFROM:+0000
TZOFFSETTO:+0100
TZNAME:BST
DTSTART:20250330T010000
END:DAYLIGHT
BEGIN:STANDARD
TZOFFSETFROM:+0100
TZOFFSETTO:+0000
TZNAME:GMT
DTSTART:20251026T010000
END:STANDARD
BEGIN:DAYLIGHT
TZOFFSETFROM:+0000
TZOFFSETTO:+0100
TZNAME:BST
DTSTART:20260329T010000
END:DAYLIGHT
BEGIN:STANDARD
TZOFFSETFROM:+0100
TZOFFSETTO:+0000
TZNAME:GMT
DTSTART:20261025T010000
END:STANDARD
BEGIN:DAYLIGHT
TZOFFSETFROM:+0000
TZOFFSETTO:+0100
TZNAME:BST
DTSTART:20270328T010000
END:DAYLIGHT
BEGIN:STANDARD
TZOFFSETFROM:+0100
TZOFFSETTO:+0000
TZNAME:GMT
DTSTART:20271031T010000
END:STANDARD
END:VTIMEZONE
BEGIN:VEVENT
DTSTART;TZID=Europe/London:20260324T193000
DTEND;TZID=Europe/London:20260324T213000
DTSTAMP:20260418T130712
CREATED:20250822T153925Z
LAST-MODIFIED:20250822T153925Z
UID:4590-1774380600-1774387800@doncastercameraclub.co.uk
SUMMARY:Judging R4 Mounted Prints Only
DESCRIPTION:Stephen is Judging our R4 Mounted Prints Only.  \nEntries Annual Competition.  \nJudge Stephen J Dean LRPS\, APAGB.  \nDoors open 19:00 hrs. 
URL:https://doncastercameraclub.co.uk/event/judging-r4-mounted-prints-only/
LOCATION:St Pauls Curch Hall\, 21 Goodison Boulevard\, Cantley\, DN4 6BT\, United Kingdom
CATEGORIES:Competitions
END:VEVENT
BEGIN:VEVENT
DTSTART;TZID=Europe/London:20260303T193000
DTEND;TZID=Europe/London:20260303T213000
DTSTAMP:20260418T130712
CREATED:20250822T095048Z
LAST-MODIFIED:20250822T104157Z
UID:4583-1772566200-1772573400@doncastercameraclub.co.uk
SUMMARY:Judging R3 DPI’s Only
DESCRIPTION:Viewing R3 DPI entries from the comfort of your own home.  \nZoom meeting.  \nJudge Steve Womack.  \n 
URL:https://doncastercameraclub.co.uk/event/judging-r3-dpis-only/
LOCATION:Zoom
CATEGORIES:Competitions
END:VEVENT
BEGIN:VEVENT
DTSTART;TZID=Europe/London:20260127T193000
DTEND;TZID=Europe/London:20260127T213000
DTSTAMP:20260418T130712
CREATED:20250822T093146Z
LAST-MODIFIED:20250822T093234Z
UID:4571-1769542200-1769549400@doncastercameraclub.co.uk
SUMMARY:Judging Print Panel
DESCRIPTION:The Judging of the annual Print Panel.  \nJudge Richard Hall LRPS DPAGB BPE3*.  \nDoors open 19:00 hrs
URL:https://doncastercameraclub.co.uk/event/judging-print-panel/
LOCATION:St Pauls Curch Hall\, 21 Goodison Boulevard\, Cantley\, DN4 6BT\, United Kingdom
CATEGORIES:Competitions
END:VEVENT
BEGIN:VEVENT
DTSTART;TZID=Europe/London:20260106T193000
DTEND;TZID=Europe/London:20260106T213000
DTSTAMP:20260418T130712
CREATED:20250822T091913Z
LAST-MODIFIED:20250822T092124Z
UID:4564-1767727800-1767735000@doncastercameraclub.co.uk
SUMMARY:Inter Club Competition
DESCRIPTION:Inter club competition with Carrick CC\, Southern Ireland. \nEntries for the Print Panel Competition
URL:https://doncastercameraclub.co.uk/event/inter-club-competition/
CATEGORIES:Competitions
END:VEVENT
BEGIN:VEVENT
DTSTART;TZID=Europe/London:20251209T193000
DTEND;TZID=Europe/London:20251209T213000
DTSTAMP:20260418T130712
CREATED:20250822T180006Z
LAST-MODIFIED:20250924T210157Z
UID:4556-1765308600-1765315800@doncastercameraclub.co.uk
SUMMARY:Judging R2 Mounted Prints
DESCRIPTION:Judging R2 Mounted Prints \nJudge Martin Litchfield CPAGB\n\nDoors open 17:00 hrs
URL:https://doncastercameraclub.co.uk/event/judging-r2-mounted-prints/
LOCATION:St Pauls Curch Hall\, 21 Goodison Boulevard\, Cantley\, DN4 6BT\, United Kingdom
CATEGORIES:Competitions
END:VEVENT
BEGIN:VEVENT
DTSTART;TZID=Europe/London:20251104T193000
DTEND;TZID=Europe/London:20251104T213000
DTSTAMP:20260418T130712
CREATED:20250821T212219Z
LAST-MODIFIED:20250821T212219Z
UID:4542-1762284600-1762291800@doncastercameraclub.co.uk
SUMMARY:Judging R1 DPI's only
DESCRIPTION:Viewing R1 DPI entries from the comfort of your own home.
URL:https://doncastercameraclub.co.uk/event/judging-r1-dpis-only/
LOCATION:Zoom
CATEGORIES:Competitions
END:VEVENT
END:VCALENDAR