BEGIN:VCALENDAR
VERSION:2.0
PRODID:-//Doncaster Camera Club - ECPv6.15.14//NONSGML v1.0//EN
CALSCALE:GREGORIAN
METHOD:PUBLISH
X-WR-CALNAME:Doncaster Camera Club
X-ORIGINAL-URL:https://doncastercameraclub.co.uk
X-WR-CALDESC:Events for Doncaster Camera Club
REFRESH-INTERVAL;VALUE=DURATION:PT1H
X-Robots-Tag:noindex
X-PUBLISHED-TTL:PT1H
BEGIN:VTIMEZONE
TZID:Europe/London
BEGIN:DAYLIGHT
TZOFFSETFROM:+0000
TZOFFSETTO:+0100
TZNAME:BST
DTSTART:20240331T010000
END:DAYLIGHT
BEGIN:STANDARD
TZOFFSETFROM:+0100
TZOFFSETTO:+0000
TZNAME:GMT
DTSTART:20241027T010000
END:STANDARD
BEGIN:DAYLIGHT
TZOFFSETFROM:+0000
TZOFFSETTO:+0100
TZNAME:BST
DTSTART:20250330T010000
END:DAYLIGHT
BEGIN:STANDARD
TZOFFSETFROM:+0100
TZOFFSETTO:+0000
TZNAME:GMT
DTSTART:20251026T010000
END:STANDARD
BEGIN:DAYLIGHT
TZOFFSETFROM:+0000
TZOFFSETTO:+0100
TZNAME:BST
DTSTART:20260329T010000
END:DAYLIGHT
BEGIN:STANDARD
TZOFFSETFROM:+0100
TZOFFSETTO:+0000
TZNAME:GMT
DTSTART:20261025T010000
END:STANDARD
BEGIN:DAYLIGHT
TZOFFSETFROM:+0000
TZOFFSETTO:+0100
TZNAME:BST
DTSTART:20270328T010000
END:DAYLIGHT
BEGIN:STANDARD
TZOFFSETFROM:+0100
TZOFFSETTO:+0000
TZNAME:GMT
DTSTART:20271031T010000
END:STANDARD
END:VTIMEZONE
BEGIN:VEVENT
DTSTART;VALUE=DATE:20260407
DTEND;VALUE=DATE:20260408
DTSTAMP:20260421T121952
CREATED:20250822T154633Z
LAST-MODIFIED:20250822T154633Z
UID:4596-1775520000-1775606399@doncastercameraclub.co.uk
SUMMARY:Easter Break
DESCRIPTION:
URL:https://doncastercameraclub.co.uk/event/easter-break/
CATEGORIES:General
END:VEVENT
BEGIN:VEVENT
DTSTART;TZID=Europe/London:20260120T193000
DTEND;TZID=Europe/London:20260120T213000
DTSTAMP:20260421T121952
CREATED:20250822T092810Z
LAST-MODIFIED:20250822T092830Z
UID:4568-1768937400-1768944600@doncastercameraclub.co.uk
SUMMARY:PAGB Masters of Print Portfolio
DESCRIPTION:Members have the opportunity to view the PAGB Masters of Print Portfolio.  \nDoors open 19:00 hrs \n 
URL:https://doncastercameraclub.co.uk/event/pagb-masters-of-print-portfolio/
LOCATION:St Pauls Curch Hall\, 21 Goodison Boulevard\, Cantley\, DN4 6BT\, United Kingdom
CATEGORIES:General
END:VEVENT
BEGIN:VEVENT
DTSTART;TZID=Europe/London:20260113T193000
DTEND;TZID=Europe/London:20260113T213000
DTSTAMP:20260421T121952
CREATED:20250822T092441Z
LAST-MODIFIED:20250822T092441Z
UID:4566-1768332600-1768339800@doncastercameraclub.co.uk
SUMMARY:Your 10 Minutes
DESCRIPTION:Members will be invited to give a short presentation to club members about any photo-related subject. (Time limited to 10 minutes each)  \nDoors open 19:00 hrs
URL:https://doncastercameraclub.co.uk/event/your-10-minutes/
LOCATION:St Pauls Curch Hall\, 21 Goodison Boulevard\, Cantley\, DN4 6BT\, United Kingdom
CATEGORIES:General
END:VEVENT
BEGIN:VEVENT
DTSTART;VALUE=DATE:20251230
DTEND;VALUE=DATE:20251231
DTSTAMP:20260421T121952
CREATED:20250822T091217Z
LAST-MODIFIED:20250822T091217Z
UID:4562-1767052800-1767139199@doncastercameraclub.co.uk
SUMMARY:Christmas Break
DESCRIPTION:
URL:https://doncastercameraclub.co.uk/event/christmas-break-2/
CATEGORIES:General
END:VEVENT
BEGIN:VEVENT
DTSTART;VALUE=DATE:20251223
DTEND;VALUE=DATE:20251224
DTSTAMP:20260421T121952
CREATED:20250822T091141Z
LAST-MODIFIED:20250822T091141Z
UID:4560-1766448000-1766534399@doncastercameraclub.co.uk
SUMMARY:Christmas Break
DESCRIPTION:
URL:https://doncastercameraclub.co.uk/event/christmas-break/
CATEGORIES:General
END:VEVENT
BEGIN:VEVENT
DTSTART;TZID=Europe/London:20251216T193000
DTEND;TZID=Europe/London:20251216T213000
DTSTAMP:20260421T121952
CREATED:20250822T091023Z
LAST-MODIFIED:20250924T205736Z
UID:4558-1765913400-1765920600@doncastercameraclub.co.uk
SUMMARY:Christmas Social Night
DESCRIPTION:The Club’s annual Christmas social night. \nDoors open 19:00 \n 
URL:https://doncastercameraclub.co.uk/event/christmas-social-night/
LOCATION:St Pauls Curch Hall\, 21 Goodison Boulevard\, Cantley\, DN4 6BT\, United Kingdom
CATEGORIES:General
END:VEVENT
BEGIN:VEVENT
DTSTART;TZID=Europe/London:20250923T193000
DTEND;TZID=Europe/London:20250923T213000
DTSTAMP:20260421T121952
CREATED:20250821T205757Z
LAST-MODIFIED:20250821T205757Z
UID:4530-1758655800-1758663000@doncastercameraclub.co.uk
SUMMARY:Mentoring Evening
DESCRIPTION:Get the season started with some advice from experienced members. Bring your prints and DPI’s\nHosted by Ray Brammall and others. \nDoors open at 19:00 hrs
URL:https://doncastercameraclub.co.uk/event/mentoring-evening/
LOCATION:St Pauls Curch Hall\, 21 Goodison Boulevard\, Cantley\, DN4 6BT\, United Kingdom
CATEGORIES:General
END:VEVENT
BEGIN:VEVENT
DTSTART;TZID=Europe/London:20250916T193000
DTEND;TZID=Europe/London:20250916T213000
DTSTAMP:20260421T121952
CREATED:20250821T172304Z
LAST-MODIFIED:20250821T205314Z
UID:4525-1758051000-1758058200@doncastercameraclub.co.uk
SUMMARY:Opening Night
DESCRIPTION:Review of the entries for the 2025 annual competition. \nDoors open at 19:00 hrs
URL:https://doncastercameraclub.co.uk/event/opening-night/
LOCATION:St Pauls Curch Hall\, 21 Goodison Boulevard\, Cantley\, DN4 6BT\, United Kingdom
CATEGORIES:General
END:VEVENT
END:VCALENDAR